View In:
ArcGIS JavaScript
ArcGIS Online Map Viewer
ArcGIS Earth
ArcMap
View Footprint In:
ArcGIS Online Map Viewer
Service Description: Aerial_2025
Name: Aerial_2025
Description:
Single Fused Map Cache: false
Extent:
XMin: 435000.000000005
YMin: 1555000.011999995
XMax: 744999.987600005
YMax: 1854999.999999995
Spatial Reference: 103022
(6438)
Initial Extent:
XMin: 435000.000000005
YMin: 1555000.011999995
XMax: 744999.987600005
YMax: 1854999.999999995
Spatial Reference: 103022
(6438)
Full Extent:
XMin: 435000.000000005
YMin: 1555000.011999995
XMax: 744999.987600005
YMax: 1854999.999999995
Spatial Reference: 103022
(6438)
Pixel Size X: 0.08333333
Pixel Size Y: 0.08333333000000004
Band Count: 4
Pixel Type: U8
RasterFunction Infos: {"rasterFunctionInfos": [{
"name": "None",
"description": "",
"help": ""
}]}
Mensuration Capabilities: Basic
Has Histograms: true
Has Colormap: false
Has Multi Dimensions : false
Rendering Rule:
Min Scale: 0
Max Scale: 0
Copyright Text:
Service Data Type: esriImageServiceDataTypeGeneric
Min Values: 0, 0, 0, 0
Max Values: 227, 220, 209, 255
Mean Values: 97.352672453175, 104.80799451804, 100.16550936501, 107.58349282297
Standard Deviation Values: 31.41043912614, 24.000717593352, 21.813325460297, 125.36110507375
Object ID Field:
Fields:
None
Default Mosaic Method: Center
Allowed Mosaic Methods:
SortField:
SortValue: null
Mosaic Operator: First
Default Compression Quality: 75
Default Resampling Method: Bilinear
Max Record Count: null
Max Image Height: 4100
Max Image Width: 15000
Max Download Image Count: null
Max Mosaic Image Count: null
Allow Raster Function: true
Allow Copy: true
Allow Analysis: true
Allow Compute TiePoints: false
Supports Statistics: false
Supports Advanced Queries: false
Use StandardizedQueries: true
Raster Type Infos:
Name: Raster Dataset
Description: Supports all ArcGIS Raster Datasets
Help:
Has Raster Attribute Table: false
Edit Fields Info: null
Ownership Based AccessControl For Rasters: null
Child Resources:
Info
Histograms
Statistics
Key Properties
Legend
Raster Function Infos
Supported Operations:
Export Image
Identify
Measure
Compute Histograms
Compute Statistics Histograms
Get Samples
Compute Class Statistics
Query Boundary
Compute Pixel Location
Compute Angles
Validate
Project