{
 "currentVersion": 10.91,
 "serviceDescription": "Aerial_2025",
 "name": "Aerial_2025",
 "description": "",
 "extent": {
  "xmin": 435000.000000005,
  "ymin": 1555000.011999995,
  "xmax": 744999.987600005,
  "ymax": 1854999.999999995,
  "spatialReference": {
   "wkid": 103022,
   "latestWkid": 6438
  }
 },
 "initialExtent": {
  "xmin": 435000.000000005,
  "ymin": 1555000.011999995,
  "xmax": 744999.987600005,
  "ymax": 1854999.999999995,
  "spatialReference": {
   "wkid": 103022,
   "latestWkid": 6438
  }
 },
 "fullExtent": {
  "xmin": 435000.000000005,
  "ymin": 1555000.011999995,
  "xmax": 744999.987600005,
  "ymax": 1854999.999999995,
  "spatialReference": {
   "wkid": 103022,
   "latestWkid": 6438
  }
 },
 "hasMultidimensions": false,
 "pixelSizeX": 0.08333333,
 "pixelSizeY": 0.08333333000000004,
 "datasetFormat": "MrSID",
 "uncompressedSize": 53568000000000,
 "blockWidth": 1024,
 "blockHeight": 128,
 "compressionType": "Wavelet (MG4)",
 "bandNames": [
  "Band_1",
  "Band_2",
  "Band_3",
  "Band_4"
 ],
 "allowCopy": true,
 "allowAnalysis": true,
 "bandCount": 4,
 "pixelType": "U8",
 "minPixelSize": 0,
 "maxPixelSize": 0,
 "copyrightText": "",
 "serviceDataType": "esriImageServiceDataTypeGeneric",
 "serviceSourceType": "esriImageServiceSourceTypeDataset",
 "minValues": [
  0,
  0,
  0,
  0
 ],
 "maxValues": [
  227,
  220,
  209,
  255
 ],
 "meanValues": [
  97.352672453175,
  104.80799451804,
  100.16550936501,
  107.58349282297
 ],
 "stdvValues": [
  31.41043912614,
  24.000717593352,
  21.813325460297,
  125.36110507375
 ],
 "objectIdField": "",
 "fields": [],
 "capabilities": "Mensuration,Image,Metadata",
 "defaultMosaicMethod": "Center",
 "allowedMosaicMethods": "",
 "sortField": "",
 "sortValue": null,
 "sortAscending": true,
 "mosaicOperator": "First",
 "defaultCompressionQuality": 75,
 "defaultResamplingMethod": "Bilinear",
 "maxImageHeight": 4100,
 "maxImageWidth": 15000,
 "allowRasterFunction": true,
 "rasterFunctionInfos": [
  {
   "name": "None",
   "description": "",
   "help": ""
  }
 ],
 "rasterTypeInfos": [
  {
   "name": "Raster Dataset",
   "description": "Supports all ArcGIS Raster Datasets",
   "help": ""
  }
 ],
 "mensurationCapabilities": "Basic",
 "hasHistograms": true,
 "hasColormap": false,
 "hasRasterAttributeTable": false,
 "minScale": 0,
 "maxScale": 0,
 "exportTilesAllowed": false,
 "supportsStatistics": false,
 "supportsAdvancedQueries": false,
 "editFieldsInfo": null,
 "ownershipBasedAccessControlForRasters": null,
 "allowComputeTiePoints": false,
 "useStandardizedQueries": true,
 "advancedQueryCapabilities": {
  "useStandardizedQueries": true,
  "supportsStatistics": false,
  "supportsOrderBy": false,
  "supportsDistinct": false,
  "supportsPagination": false
 },
 "spatialReference": {
  "wkid": 103022,
  "latestWkid": 6438
 }
}
